BEGIN:VCALENDAR
VERSION:2.0
PRODID:-//Green Philly - ECPv6.15.20//NONSGML v1.0//EN
CALSCALE:GREGORIAN
METHOD:PUBLISH
X-ORIGINAL-URL:https://greenphl.com
X-WR-CALDESC:Events for Green Philly
REFRESH-INTERVAL;VALUE=DURATION:PT1H
X-Robots-Tag:noindex
X-PUBLISHED-TTL:PT1H
BEGIN:VTIMEZONE
TZID:America/New_York
BEGIN:DAYLIGHT
TZOFFSETFROM:-0500
TZOFFSETTO:-0400
TZNAME:EDT
DTSTART:20240310T070000
END:DAYLIGHT
BEGIN:STANDARD
TZOFFSETFROM:-0400
TZOFFSETTO:-0500
TZNAME:EST
DTSTART:20241103T060000
END:STANDARD
BEGIN:DAYLIGHT
TZOFFSETFROM:-0500
TZOFFSETTO:-0400
TZNAME:EDT
DTSTART:20250309T070000
END:DAYLIGHT
BEGIN:STANDARD
TZOFFSETFROM:-0400
TZOFFSETTO:-0500
TZNAME:EST
DTSTART:20251102T060000
END:STANDARD
BEGIN:DAYLIGHT
TZOFFSETFROM:-0500
TZOFFSETTO:-0400
TZNAME:EDT
DTSTART:20260308T070000
END:DAYLIGHT
BEGIN:STANDARD
TZOFFSETFROM:-0400
TZOFFSETTO:-0500
TZNAME:EST
DTSTART:20261101T060000
END:STANDARD
END:VTIMEZONE
BEGIN:VEVENT
DTSTART;TZID=America/New_York:20251217T183000
DTEND;TZID=America/New_York:20251217T193000
DTSTAMP:20260424T164906
CREATED:20251203T204552Z
LAST-MODIFIED:20251203T204555Z
UID:10036269-1765996200-1765999800@greenphl.com
SUMMARY:Discover Microplastics in the TTF Watershed
DESCRIPTION:ighborhoods? Want to take part in meaningful community science right here in the TTF Watershed?\n\nJoin TTF Watershed Partnership and The Academy of Natural Sciences to learn about the new Philadelphia Marine Debris Action Coalition (PMAC)—a NOAA and Pennsylvania Sea Grant–funded initiative spanning six watersheds across the Greater Philadelphia region. TTF is proud to serve as one of the coalition’s partners\, helping engage local residents in hands-on microplastics research and education.\n\nWhen: Wednesday\, December 17 | 6:30 – 7:30 PM\n\nLocation: Friends Hospital\, Main Building\, 4641 E Roosevelt Blvd. Philadelphia\, PA 19124\n\nDuring this presentation\, you will:\n\n? Learn what microplastics are and where they show up in our waterways and natural areas\n? Hear about the coalition’s goals to better understand how plastic pollution moves through our aquatic and terrestrial ecosystems\n? Explore opportunities to get involved—from litter cleanups to sampling days and community science projects\n? Bring your questions about microplastics\, pollution\, and local environmental impacts\n\nTogether\, we can better understand the threats facing our creeks and take action to protect the health of the Tookany/Tacony-Frankford Watershed.
URL:https://greenphl.com/event/discover-microplastics-in-the-ttf-watershed/
LOCATION:Friends Hospital\, 4641 E Roosevelt Blvd.\, Philadelphia\, PA\, 19124\, United States
CATEGORIES:Neighborhood,Workshop
ATTACH;FMTTYPE=image/png:https://greenphl.com/wp-content/uploads/2025/12/pmac2025-1080-x-1350-px.png
ORGANIZER;CN="Tookany/Tacony-Frankford Watershed Partnership":MAILTO:info@ttfwatershed.org
GEO:40.0266061;-75.0994721
X-APPLE-STRUCTURED-LOCATION;VALUE=URI;X-ADDRESS=Friends Hospital 4641 E Roosevelt Blvd. Philadelphia PA 19124 United States;X-APPLE-RADIUS=500;X-TITLE=4641 E Roosevelt Blvd.:geo:-75.0994721,40.0266061
END:VEVENT
END:VCALENDAR