BEGIN:VCALENDAR
VERSION:2.0
PRODID:-//Green Philly - ECPv6.15.20//NONSGML v1.0//EN
CALSCALE:GREGORIAN
METHOD:PUBLISH
X-WR-CALNAME:Green Philly
X-ORIGINAL-URL:https://greenphl.com
X-WR-CALDESC:Events for Green Philly
REFRESH-INTERVAL;VALUE=DURATION:PT1H
X-Robots-Tag:noindex
X-PUBLISHED-TTL:PT1H
BEGIN:VTIMEZONE
TZID:America/New_York
BEGIN:DAYLIGHT
TZOFFSETFROM:-0500
TZOFFSETTO:-0400
TZNAME:EDT
DTSTART:20250309T070000
END:DAYLIGHT
BEGIN:STANDARD
TZOFFSETFROM:-0400
TZOFFSETTO:-0500
TZNAME:EST
DTSTART:20251102T060000
END:STANDARD
BEGIN:DAYLIGHT
TZOFFSETFROM:-0500
TZOFFSETTO:-0400
TZNAME:EDT
DTSTART:20260308T070000
END:DAYLIGHT
BEGIN:STANDARD
TZOFFSETFROM:-0400
TZOFFSETTO:-0500
TZNAME:EST
DTSTART:20261101T060000
END:STANDARD
BEGIN:DAYLIGHT
TZOFFSETFROM:-0500
TZOFFSETTO:-0400
TZNAME:EDT
DTSTART:20270314T070000
END:DAYLIGHT
BEGIN:STANDARD
TZOFFSETFROM:-0400
TZOFFSETTO:-0500
TZNAME:EST
DTSTART:20271107T060000
END:STANDARD
END:VTIMEZONE
BEGIN:VEVENT
DTSTART;TZID=America/New_York:20260425T100000
DTEND;TZID=America/New_York:20260425T140000
DTSTAMP:20260421T032105
CREATED:20260420T175538Z
LAST-MODIFIED:20260420T175544Z
UID:10036378-1777111200-1777125600@greenphl.com
SUMMARY:Cobbs Creek Celebrate Trails Day
DESCRIPTION:Cobbs Creek Celebrate Trails Day will celebrate its sixth year running on Saturday\, April 25th 2026 from 10am-2pm at the playground/park area at Thomas Ave & Cobbs Creek Parkway just north of Whitby Ave.\n\nBrought to you by Clean Air Council and the Cobbs Creek Watershed Coalition\, this free event will kick off at 9:30am with a WeWalk to explore the paved Cobbs Creek Trail. Beginning at 10:00am attendees can interact with over two dozen exhibitors offering family friendly games\, resources\, information\, education\, and activities for residents to connect with including sharing ideas for the upcoming Little Nature Playgrounds on Cobbs Creek Trail.  The event will conclude with a raffle and a chance to win prizes. Thanks to Healing Through The Land for providing snacks and refreshments for participants.\n\nThe day’s schedule is filled with free activities including horseback riding\, a birding walk\, fishing\, book giveaway\, and more. See the complete event schedule below\, help spread the word to friends\, family\, and neighbors to come out and enjoy Cobbs Creek Park together. Stay updated by following the Cobbs Creek Watershed Coalition Facebook and Instagram pages.
URL:https://greenphl.com/event/cobbs-creek-celebrate-trails-day/
LOCATION:Thomas ave and C obbs Creek Parkway\, at the playground/park area at Thomas Ave & Cobbs Creek Parkway just north of Whitby Ave. \, Philadelphia
CATEGORIES:Family,Food,Music,Neighborhood,Philly
ATTACH;FMTTYPE=image/jpeg:https://greenphl.com/wp-content/uploads/2026/04/1.jpg
END:VEVENT
END:VCALENDAR