BEGIN:VCALENDAR
VERSION:2.0
PRODID:-//Green Philly - ECPv6.15.20//NONSGML v1.0//EN
CALSCALE:GREGORIAN
METHOD:PUBLISH
X-WR-CALNAME:Green Philly
X-ORIGINAL-URL:https://greenphl.com
X-WR-CALDESC:Events for Green Philly
REFRESH-INTERVAL;VALUE=DURATION:PT1H
X-Robots-Tag:noindex
X-PUBLISHED-TTL:PT1H
BEGIN:VTIMEZONE
TZID:America/New_York
BEGIN:DAYLIGHT
TZOFFSETFROM:-0500
TZOFFSETTO:-0400
TZNAME:EDT
DTSTART:20240310T070000
END:DAYLIGHT
BEGIN:STANDARD
TZOFFSETFROM:-0400
TZOFFSETTO:-0500
TZNAME:EST
DTSTART:20241103T060000
END:STANDARD
BEGIN:DAYLIGHT
TZOFFSETFROM:-0500
TZOFFSETTO:-0400
TZNAME:EDT
DTSTART:20250309T070000
END:DAYLIGHT
BEGIN:STANDARD
TZOFFSETFROM:-0400
TZOFFSETTO:-0500
TZNAME:EST
DTSTART:20251102T060000
END:STANDARD
BEGIN:DAYLIGHT
TZOFFSETFROM:-0500
TZOFFSETTO:-0400
TZNAME:EDT
DTSTART:20260308T070000
END:DAYLIGHT
BEGIN:STANDARD
TZOFFSETFROM:-0400
TZOFFSETTO:-0500
TZNAME:EST
DTSTART:20261101T060000
END:STANDARD
END:VTIMEZONE
BEGIN:VEVENT
DTSTART;TZID=America/New_York:20251003T170000
DTEND;TZID=America/New_York:20251003T190000
DTSTAMP:20260423T154744
CREATED:20250923T160958Z
LAST-MODIFIED:20250923T161000Z
UID:10036157-1759510800-1759518000@greenphl.com
SUMMARY:Opening Reception for DesignPhiladelphia at Carpenters' Hall
DESCRIPTION:As part of DesignPhiladelphia\, Carpenters’ Hall will host the opening reception for a temporary exhibit on Friday\, October 3\, 5–7 p.m. The exhibit features panels highlighting current historic preservation projects across Greater Philadelphia that place accessibility at the center of their design. Light refreshments will be served.\n\nThe panels will remain on view at Carpenters’ Hall\, free of charge\, on Saturday\, October 4\, and Sunday\, October 5\, from 10 a.m. to 4 p.m. Projects represented are at various stages of development and demonstrate how accessibility can extend beyond ADA compliance—embracing universal\, human-centered design while respecting historic preservation and interpretive standards.\n\nThis program is presented in conjunction with the Carpenters’ Company of the City and County of Philadelphia’s 2025 Master Builders’ Dialogues\, “Towards a More Perfect Union: Accessibility and Preservation\,” taking place at Arch Street Meeting House on Thursday\, October 23\, 2025.
URL:https://greenphl.com/event/opening-reception-for-designphiladelphia-at-carpenters-hall/
LOCATION:Carpenters’ Hall\, 320 Chestnut St\, Philadelphia\, PA
CATEGORIES:Family,Philly
ATTACH;FMTTYPE=image/jpeg:https://greenphl.com/wp-content/uploads/2025/09/DesignPhiladelphia-at-Carpenters-Hall.jpeg
GEO:39.9481679;-75.1471729
X-APPLE-STRUCTURED-LOCATION;VALUE=URI;X-ADDRESS=Carpenters’ Hall 320 Chestnut St Philadelphia PA;X-APPLE-RADIUS=500;X-TITLE=320 Chestnut St:geo:-75.1471729,39.9481679
END:VEVENT
END:VCALENDAR