BEGIN:VCALENDAR
VERSION:2.0
PRODID:-//Green Philly - ECPv6.15.20//NONSGML v1.0//EN
CALSCALE:GREGORIAN
METHOD:PUBLISH
X-ORIGINAL-URL:https://greenphl.com
X-WR-CALDESC:Events for Green Philly
REFRESH-INTERVAL;VALUE=DURATION:PT1H
X-Robots-Tag:noindex
X-PUBLISHED-TTL:PT1H
BEGIN:VTIMEZONE
TZID:America/New_York
BEGIN:DAYLIGHT
TZOFFSETFROM:-0500
TZOFFSETTO:-0400
TZNAME:EDT
DTSTART:20250309T070000
END:DAYLIGHT
BEGIN:STANDARD
TZOFFSETFROM:-0400
TZOFFSETTO:-0500
TZNAME:EST
DTSTART:20251102T060000
END:STANDARD
BEGIN:DAYLIGHT
TZOFFSETFROM:-0500
TZOFFSETTO:-0400
TZNAME:EDT
DTSTART:20260308T070000
END:DAYLIGHT
BEGIN:STANDARD
TZOFFSETFROM:-0400
TZOFFSETTO:-0500
TZNAME:EST
DTSTART:20261101T060000
END:STANDARD
BEGIN:DAYLIGHT
TZOFFSETFROM:-0500
TZOFFSETTO:-0400
TZNAME:EDT
DTSTART:20270314T070000
END:DAYLIGHT
BEGIN:STANDARD
TZOFFSETFROM:-0400
TZOFFSETTO:-0500
TZNAME:EST
DTSTART:20271107T060000
END:STANDARD
END:VTIMEZONE
BEGIN:VEVENT
DTSTART;TZID=America/New_York:20260322T140000
DTEND;TZID=America/New_York:20260322T160000
DTSTAMP:20260424T075956
CREATED:20260312T165025Z
LAST-MODIFIED:20260312T165033Z
UID:10036346-1774188000-1774195200@greenphl.com
SUMMARY:Women\, Religion & Revolution
DESCRIPTION:From making flags to hosting secret worship services in their homes during the British occupation\, learn how the women of Philadelphia made important contributions to the Revolutionary War effort. This powerhouse panel includes historians and leaders from across Philadelphia.
URL:https://greenphl.com/event/women-religion-revolution/
LOCATION:Historic St. George’s Museum & Archives\, 326 New St\, Philadelphia\, PA\, 19106\, United States
CATEGORIES:Family,Festival,Neighborhood,Philly,Workshop
ATTACH;FMTTYPE=image/png:https://greenphl.com/wp-content/uploads/2026/03/flyer.png
ORGANIZER;CN="Historic St. George's Museum &amp%3B Archives":MAILTO:taylor@historicstgeorges.org
END:VEVENT
END:VCALENDAR