BEGIN:VCALENDAR
VERSION:2.0
PRODID:-//Green Philly - ECPv6.15.20//NONSGML v1.0//EN
CALSCALE:GREGORIAN
METHOD:PUBLISH
X-WR-CALNAME:Green Philly
X-ORIGINAL-URL:https://greenphl.com
X-WR-CALDESC:Events for Green Philly
REFRESH-INTERVAL;VALUE=DURATION:PT1H
X-Robots-Tag:noindex
X-PUBLISHED-TTL:PT1H
BEGIN:VTIMEZONE
TZID:America/New_York
BEGIN:DAYLIGHT
TZOFFSETFROM:-0500
TZOFFSETTO:-0400
TZNAME:EDT
DTSTART:20240310T070000
END:DAYLIGHT
BEGIN:STANDARD
TZOFFSETFROM:-0400
TZOFFSETTO:-0500
TZNAME:EST
DTSTART:20241103T060000
END:STANDARD
BEGIN:DAYLIGHT
TZOFFSETFROM:-0500
TZOFFSETTO:-0400
TZNAME:EDT
DTSTART:20250309T070000
END:DAYLIGHT
BEGIN:STANDARD
TZOFFSETFROM:-0400
TZOFFSETTO:-0500
TZNAME:EST
DTSTART:20251102T060000
END:STANDARD
BEGIN:DAYLIGHT
TZOFFSETFROM:-0500
TZOFFSETTO:-0400
TZNAME:EDT
DTSTART:20260308T070000
END:DAYLIGHT
BEGIN:STANDARD
TZOFFSETFROM:-0400
TZOFFSETTO:-0500
TZNAME:EST
DTSTART:20261101T060000
END:STANDARD
END:VTIMEZONE
BEGIN:VEVENT
DTSTART;TZID=America/New_York:20251204T080000
DTEND;TZID=America/New_York:20251204T170000
DTSTAMP:20260424T114819
CREATED:20251203T204617Z
LAST-MODIFIED:20251203T204620Z
UID:10036270-1764835200-1764867600@greenphl.com
SUMMARY:Expand renewable energy beyond your own roof
DESCRIPTION:The Clean Energy Co-op empowers individuals to directly expand renewable energy in our community through collective community investment. \nWe invite you to attend one of our upcoming information sessions to learn more about the Clean Energy Co-op\, our current projects with Valley Greene Apartments\, Inc. (East Falls section of Philadelphia) and West Kensington Ministry (West Kensington section of Philadelphia) and how you could be involved in 2025.
URL:https://greenphl.com/event/expand-renewable-energy-beyond-your-own-roof/2025-12-04/1/
LOCATION:PA
CATEGORIES:Workshop
ATTACH;FMTTYPE=image/png:https://greenphl.com/wp-content/uploads/2025/12/logo.png
END:VEVENT
BEGIN:VEVENT
DTSTART;TZID=America/New_York:20251204T190000
DTEND;TZID=America/New_York:20251204T200000
DTSTAMP:20260424T114819
CREATED:20251203T204617Z
LAST-MODIFIED:20251203T204620Z
UID:10036271-1764874800-1764878400@greenphl.com
SUMMARY:Expand renewable energy beyond your own roof
DESCRIPTION:The Clean Energy Co-op empowers individuals to directly expand renewable energy in our community through collective community investment. \nWe invite you to attend one of our upcoming information sessions to learn more about the Clean Energy Co-op\, our current projects with Valley Greene Apartments\, Inc. (East Falls section of Philadelphia) and West Kensington Ministry (West Kensington section of Philadelphia) and how you could be involved in 2025.
URL:https://greenphl.com/event/expand-renewable-energy-beyond-your-own-roof/2025-12-04/2/
LOCATION:PA
CATEGORIES:Workshop
ATTACH;FMTTYPE=image/png:https://greenphl.com/wp-content/uploads/2025/12/logo.png
END:VEVENT
BEGIN:VEVENT
DTSTART;TZID=America/New_York:20251210T190000
DTEND;TZID=America/New_York:20251210T200000
DTSTAMP:20260424T114819
CREATED:20251203T204658Z
LAST-MODIFIED:20251203T204701Z
UID:10036272-1765393200-1765396800@greenphl.com
SUMMARY:Calling all Solar Enthusiasts
DESCRIPTION:Expand renewable energy locally beyond your own roof! The Clean Energy Co-op empowers individuals to directly expand renewable energy on local nonprofits\, co-ops\, and community-oriented businesses through collective community investment.  Please join us to learn about the Clean Energy Co-op\, our current projects with Valley Greene Apartments\, Inc. (East Falls section of Philadelphia) and West Kensington Ministry (West Kensington section of Philadelphia) and how you could be involved in 2025.
URL:https://greenphl.com/event/calling-all-solar-enthusiasts/
LOCATION:PA
CATEGORIES:Workshop
ATTACH;FMTTYPE=image/jpeg:https://greenphl.com/wp-content/uploads/2025/12/logo2.jpg
ORGANIZER;CN="The Clean Energy Co-op":MAILTO:cleanenergycoopsepa@gmail.com
END:VEVENT
END:VCALENDAR