BEGIN:VCALENDAR
VERSION:2.0
PRODID:-//Green Philly - ECPv6.15.20//NONSGML v1.0//EN
CALSCALE:GREGORIAN
METHOD:PUBLISH
X-ORIGINAL-URL:https://greenphl.com
X-WR-CALDESC:Events for Green Philly
REFRESH-INTERVAL;VALUE=DURATION:PT1H
X-Robots-Tag:noindex
X-PUBLISHED-TTL:PT1H
BEGIN:VTIMEZONE
TZID:America/New_York
BEGIN:DAYLIGHT
TZOFFSETFROM:-0500
TZOFFSETTO:-0400
TZNAME:EDT
DTSTART:20240310T070000
END:DAYLIGHT
BEGIN:STANDARD
TZOFFSETFROM:-0400
TZOFFSETTO:-0500
TZNAME:EST
DTSTART:20241103T060000
END:STANDARD
BEGIN:DAYLIGHT
TZOFFSETFROM:-0500
TZOFFSETTO:-0400
TZNAME:EDT
DTSTART:20250309T070000
END:DAYLIGHT
BEGIN:STANDARD
TZOFFSETFROM:-0400
TZOFFSETTO:-0500
TZNAME:EST
DTSTART:20251102T060000
END:STANDARD
BEGIN:DAYLIGHT
TZOFFSETFROM:-0500
TZOFFSETTO:-0400
TZNAME:EDT
DTSTART:20260308T070000
END:DAYLIGHT
BEGIN:STANDARD
TZOFFSETFROM:-0400
TZOFFSETTO:-0500
TZNAME:EST
DTSTART:20261101T060000
END:STANDARD
END:VTIMEZONE
BEGIN:VEVENT
DTSTART;TZID=America/New_York:20251003T170000
DTEND;TZID=America/New_York:20251003T220000
DTSTAMP:20260423T201803
CREATED:20250923T161026Z
LAST-MODIFIED:20250923T161030Z
UID:10036156-1759510800-1759528800@greenphl.com
SUMMARY:Brewerytown Garden Cocktail Party
DESCRIPTION:Join us on Friday\, October 3rd for our Annual Garden Cocktail Party – a fundraiser for Brewerytown’s award-winning community garden.\n\nA Patron Party will begin at 5PM at Otto’s Taproom and Grille at 1216 N. 29th Street (2nd Floor)\, where guests will enjoy hors d’oeuvres\, cocktails and exclusive Patron Party raffle items. At 6PM\, Patron Party revelers will head over to the Garden (corner of 27th and Master Streets) to join the full party featuring locally prepared foods and custom cocktails inspired by the garden and served in a commemorative glass\, all while enjoying music by DJ JAMZ.\n\nAll proceeds will be directed to site maintenance\, improvements\, and community programming. This year alone\, we funneled resources into over 15 no-cost programs ranging from CPR training to art classes to cooking workshops\, and embarked on ambitious projects dedicated to sustainability. Your support will enable us to do even more in the years to come.
URL:https://greenphl.com/event/brewerytown-garden-cocktail-party/
LOCATION:Brewerytown Garden\, 27th & Master St\, Philadelphia\, 19121
CATEGORIES:Food,Gala,Happy Hour,Neighborhood,Philly
ATTACH;FMTTYPE=image/jpeg:https://greenphl.com/wp-content/uploads/2025/09/postcard_orig.jpg
ORGANIZER;CN="brewerytown garden":MAILTO:brewerytown.garden@gmail.com
END:VEVENT
END:VCALENDAR