BEGIN:VCALENDAR
VERSION:2.0
PRODID:-//Green Philly - ECPv6.15.20//NONSGML v1.0//EN
CALSCALE:GREGORIAN
METHOD:PUBLISH
X-ORIGINAL-URL:https://greenphl.com
X-WR-CALDESC:Events for Green Philly
REFRESH-INTERVAL;VALUE=DURATION:PT1H
X-Robots-Tag:noindex
X-PUBLISHED-TTL:PT1H
BEGIN:VTIMEZONE
TZID:America/New_York
BEGIN:DAYLIGHT
TZOFFSETFROM:-0500
TZOFFSETTO:-0400
TZNAME:EDT
DTSTART:20250309T070000
END:DAYLIGHT
BEGIN:STANDARD
TZOFFSETFROM:-0400
TZOFFSETTO:-0500
TZNAME:EST
DTSTART:20251102T060000
END:STANDARD
BEGIN:DAYLIGHT
TZOFFSETFROM:-0500
TZOFFSETTO:-0400
TZNAME:EDT
DTSTART:20260308T070000
END:DAYLIGHT
BEGIN:STANDARD
TZOFFSETFROM:-0400
TZOFFSETTO:-0500
TZNAME:EST
DTSTART:20261101T060000
END:STANDARD
BEGIN:DAYLIGHT
TZOFFSETFROM:-0500
TZOFFSETTO:-0400
TZNAME:EDT
DTSTART:20270314T070000
END:DAYLIGHT
BEGIN:STANDARD
TZOFFSETFROM:-0400
TZOFFSETTO:-0500
TZNAME:EST
DTSTART:20271107T060000
END:STANDARD
END:VTIMEZONE
BEGIN:VEVENT
DTSTART;TZID=America/New_York:20260429T000000
DTEND;TZID=America/New_York:20260502T235959
DTSTAMP:20260422T071724
CREATED:20260420T175613Z
LAST-MODIFIED:20260420T175620Z
UID:10036379-1777420800-1777766399@greenphl.com
SUMMARY:U.S. National Squash Championships
DESCRIPTION:Watch the nation’s top squash professionals compete for the title of U.S. National Champion for free! Be in the stands as future Olympians take to the glass court at the world-class Arlen Specter US Squash Center\, home of Team USA Squash and US Squash.
URL:https://greenphl.com/event/u-s-national-squash-championships/
LOCATION:Arlen Specter US Squash Center\, 25 N 33rd St\, Philadelphia\, PA 19104\, Arlen Specter US Squash Center\, 25 N 33rd St\, Philadelphia\, PA\, 19104\, United States
CATEGORIES:Family,Fitness,Philly
ATTACH;FMTTYPE=image/png:https://greenphl.com/wp-content/uploads/2026/04/U.S.-Nationals-Flyer-11.png
ORGANIZER;CN="U.S. Squash":MAILTO:catherine.brady@ussquash.org
END:VEVENT
BEGIN:VEVENT
DTSTART;TZID=America/New_York:20260508T120000
DTEND;TZID=America/New_York:20260508T130000
DTSTAMP:20260422T071724
CREATED:20220906T152540Z
LAST-MODIFIED:20220906T152542Z
UID:10035154-1778241600-1778245200@greenphl.com
SUMMARY:Why Passive House?
DESCRIPTION:You’ve heard the buzz around Passive House\, but you’re not sure why all the fuss? Is it really that different? Register for the next Zoom here. Held 2nd Friday of every month at noon. \nPHN Executive Director Ken Levenson unpacks the logic\, the principles\, the history and the new frontiers. Find out how Passive House can change the way you think and work with buildings – how you can make radical decarbonization and affordable high-performance a given. Get the low-down\, ask questions\, and discuss possible next steps.
URL:https://greenphl.com/event/why-passive-house/2026-05-08/
LOCATION:Online\, 39658 Mission Boulevard\, Fremont\, CA 94539\, USA.\, fremont\, CA\, 94539\, American Samoa
CATEGORIES:Workshop
ATTACH;FMTTYPE=image/jpeg:https://greenphl.com/wp-content/uploads/2022/09/why-ph-image-for-SM.jpg
ORGANIZER;CN="Passive House Network":MAILTO:info@passivehousenetwork.org
GEO:37.560398;-121.956454
X-APPLE-STRUCTURED-LOCATION;VALUE=URI;X-ADDRESS=Online 39658 Mission Boulevard Fremont CA 94539 USA. fremont CA 94539 American Samoa;X-APPLE-RADIUS=500;X-TITLE=39658 Mission Boulevard\, Fremont\, CA 94539\, USA.:geo:-121.956454,37.560398
END:VEVENT
BEGIN:VEVENT
DTSTART;TZID=America/New_York:20260509T080000
DTEND;TZID=America/New_York:20260509T153000
DTSTAMP:20260422T071724
CREATED:20260420T175727Z
LAST-MODIFIED:20260420T175731Z
UID:10036381-1778313600-1778340600@greenphl.com
SUMMARY:EcoPhilly 5th Annual Summit
DESCRIPTION:EcoPhilly will host its fifth annual EcoPhilly Summit\, From Hope to Action\, on Saturday\, May 9\, at the Connelly Center at Villanova University\, 800 E. Lancaster Ave.\, Villanova\, PA 19085. The summit will bring together parish\, school\, and institutional leaders from across the Catholic Church of Philadelphia to deepen and advance care for creation inspired by Pope Francis’ landmark encyclical\, Laudato Si’.\n\nThe day will feature a keynote address by Joshua van Cleef\, Director of the Office of Peace and Justice of the Diocese of Lexington\, who will share insights from the diocese’s transition toward net-zero emissions by 2030.\n\nA breakout session on the impact of AI will be led by EcoPhilly co-founder Nicholas Collura\, Program Director of the Radius Program and a chaplain in the Office of Religious\, Spiritual\, and Ethical Life (ORSEL)\, at MIT.\n\nAdditional highlights include sustainability exhibitors\, a youth art contest\, musical selections by the CLEAR Project\, and a complimentary lunch. Mini-grant awards will also be presented to parishes and schools for projects that foster eco-spirituality and environmental action.\n\nRegistration opens at 8:00 a.m.\, with programming running from 9:00 a.m. to 3:30 p.m. A suggested donation of $5 will be accepted at the door. On-campus parking is available\, and the venue is accessible via SEPTA Regional Rail at Villanova Station.\n\nThe event is co-sponsored by Villanova University’s Office for Sustainability and the Ambassador’s Fund for Catholic Education.\n\nFor more information or to register\, visit ecophilly.org/summit.
URL:https://greenphl.com/event/ecophilly-5th-annual-summit/
LOCATION:Villanova University – Pick-up/Drop-off at Connelly Center\, 800 East Lancaster Avenue\, Villanova\, PA\, 19085\, United States
CATEGORIES:Conference
ATTACH;FMTTYPE=image/jpeg:https://greenphl.com/wp-content/uploads/2026/04/EcoPhilly-Annual-Summit-Flyer-5-9-26.jpg
ORGANIZER;CN="EcoPhilly":MAILTO:info@ecophilly.org
GEO:40.0379514;-75.3426159
X-APPLE-STRUCTURED-LOCATION;VALUE=URI;X-ADDRESS=Villanova University – Pick-up/Drop-off at Connelly Center 800 East Lancaster Avenue Villanova PA 19085 United States;X-APPLE-RADIUS=500;X-TITLE=800 East Lancaster Avenue:geo:-75.3426159,40.0379514
END:VEVENT
BEGIN:VEVENT
DTSTART;TZID=America/New_York:20260509T100000
DTEND;TZID=America/New_York:20260509T130000
DTSTAMP:20260422T071725
CREATED:20260420T180621Z
LAST-MODIFIED:20260420T180626Z
UID:10036382-1778320800-1778331600@greenphl.com
SUMMARY:Philly Area City Nature Challenge Identification Day !
DESCRIPTION:City Nature Challenge is an annual initiative that invites people around the world to find and document wildlife in their own cities. Join us on May 9 along with naturalists\, hobbyists and professionals as we learn how to identify species in the cemetery and arboretum. Bring the whole family for ID app tutorials\, interactive games\, basic exploration of taxonomy and classification\, snacks\, and conversation about the importance of biodiversity and environmental literacy.\n\nPresented in partnership with the Academy of Natural Sciences of Drexel University\n\nThis event is being hosted in coordination with Love Your Park Week\, a citywide celebration of Philadelphia’s parks and public spaces. Learn more at loveyourpark.org/events/lyp-week-2026\nCOST: PAY WHAT YOU WISH!
URL:https://greenphl.com/event/philly-area-city-nature-challenge-identification-day/
LOCATION:Laurel Hill West\, 225 Belmont Avenue\, Bala Cynwyd\, PA\, 19004\, United States
CATEGORIES:Family,Philly
ATTACH;FMTTYPE=image/jpeg:https://greenphl.com/wp-content/uploads/2026/04/CNC-1.jpg
ORGANIZER;CN="Friends of Laurel Hill":MAILTO:programs@laurelhillphl.com
END:VEVENT
BEGIN:VEVENT
DTSTART;TZID=America/New_York:20260509T120000
DTEND;TZID=America/New_York:20260509T150000
DTSTAMP:20260422T071725
CREATED:20241223T160234Z
LAST-MODIFIED:20241223T160240Z
UID:10034654-1778328000-1778338800@greenphl.com
SUMMARY:Up Next! Youth Jam Sessions
DESCRIPTION:Up Next! is a free monthly open jam session providing a platform for Philly’s creative youth to learn\, perform\, collaborate\, and grow. Every second Saturday\, The Lounge at World Cafe Live offers an all-ages\, alcohol-free environment\, showcasing our city’s up-and-coming talent while building community across the local music scene. A rotating youth ensemble will serve as the house band\, kicking off the afternoon with a featured set including hand-selected guest artists before opening up the jam. \nProduced in collaboration between World Cafe Live and The School District of Philadelphia’s MIC’d Up initiative\, Up Next! aims to engage students in music industry careers both on and off the stage. Students will work alongside the WCL team to curate\, promote\, facilitate\, and document each session\, with opportunities in booking\, marketing\, videography\, photography\, artist relations\, hosting\, audio engineering\, backline management\, and other elements of live event production. A team of professional musicians and educators will also be on-site to facilitate performances. This program is supported by Save The Music Foundation.
URL:https://greenphl.com/event/up-next-youth-jam-sessions/2026-05-09/
LOCATION:World Cafe Live\, 3025 Walnut Street\, Philadelphia\, PA\, 19104\, United States
CATEGORIES:Fitness
GEO:39.9521955;-75.1851094
X-APPLE-STRUCTURED-LOCATION;VALUE=URI;X-ADDRESS=World Cafe Live 3025 Walnut Street Philadelphia PA 19104 United States;X-APPLE-RADIUS=500;X-TITLE=3025 Walnut Street:geo:-75.1851094,39.9521955
END:VEVENT
BEGIN:VEVENT
DTSTART;TZID=America/New_York:20260509T140000
DTEND;TZID=America/New_York:20260509T153000
DTSTAMP:20260422T071725
CREATED:20260403T184355Z
LAST-MODIFIED:20260403T184358Z
UID:10036369-1778335200-1778340600@greenphl.com
SUMMARY:Spring Concert Series
DESCRIPTION:Philadelphia’s own all-women tap company\, The Lady Hoofers Tap Ensemble\, “is a powerhouse of technique\, joy\, and passion.” (ThINKingDance) The 2026 Spring Concert Series features innovative choreography by Lisa LaTouche and Caleb Teicher\, company repertoire\, and a world premiere by NYC-based guest choreographer Dre Torres. In the group’s 15th season\, “The Lady Hoofers not only can spark the floor\, they take tap in unexpected directions.” (The Dance Journal)
URL:https://greenphl.com/event/spring-concert-series/2026-05-09/1/
LOCATION:Harold Prince Theatre at the Annenberg Center for Performing Arts\, 3680 Walnut Street ?\, Philadelphia\, PA\, PA\, 19104\, United States
CATEGORIES:Family,Festival,Food,Music,Neighborhood
ATTACH;FMTTYPE=image/png:https://greenphl.com/wp-content/uploads/2026/04/Spring-Concert-2026-flyer.png
END:VEVENT
BEGIN:VEVENT
DTSTART;TZID=America/New_York:20260512T180000
DTEND;TZID=America/New_York:20260512T200000
DTSTAMP:20260422T071725
CREATED:20240625T122739Z
LAST-MODIFIED:20240625T122743Z
UID:10031879-1778608800-1778616000@greenphl.com
SUMMARY:Green Drinks Philly
DESCRIPTION:Join Green Drinks Philly every second Tuesday of the Month to connect with like-minded local professionals interested in addressing climate change. Together\, we’ll explore the vital role each of us can play in creating a greener\, more sustainable future for our community. Whether you’re a student\, activist\, entrepreneur\, or simply passionate about sustainability\, this group is the perfect place to network\, share ideas\, and take action toward a more sustainable and environmentally friendly world. Join us for informative discussions\, networking opportunities\, and the chance to make a difference in Philadelphia’s green community.
URL:https://greenphl.com/event/green-drinks-philly/2026-05-12/
LOCATION:Victory Brewing\, 1776 Benjamin Franklin Pkwy\, Philadelphia\, PA\, 19103\, United States
CATEGORIES:Happy Hour,Philly
ATTACH;FMTTYPE=image/jpeg:https://greenphl.com/wp-content/uploads/2024/06/happy-hour.jpg
ORGANIZER;CN="Green Drinks Philly":MAILTO:greendrinksphilly@gmail.com
END:VEVENT
BEGIN:VEVENT
DTSTART;TZID=America/New_York:20260516T120000
DTEND;TZID=America/New_York:20260516T160000
DTSTAMP:20260422T071725
CREATED:20260401T200219Z
LAST-MODIFIED:20260402T154736Z
UID:10036365-1778932800-1778947200@greenphl.com
SUMMARY:EcoFair
DESCRIPTION:Embark on an immersive journey into sustainability at EcoFair\, Green Philly’s third annual family-friendly event showcasing the region’s eco-resources and initiatives driving positive change. Enjoy a day packed with eye-opening insights and actionable ideas with: \n\n\n\n\nInspiring and educational programming featuring storytelling and workshops.\n\n\n\nArt activations by Walls for Justice.\n\n\n\nSustainable Marketplace: Shop eco-alternatives for your home and life from local makers and businesses.\n\n\n\nDiscover how to take action and get involved with local nonprofits.\n\n\n\n\nSchedule of events: \n\n\n\n\n12-4 PM Vendor Tables\n\n\n\n\nMeet and network with other sustainably-minded friends. \n\n\n\nWhether you’re passionate about making a positive impact on the planet or simply looking for a fun and educational experience\, EcoFair has something for everyone. Secure your spot now and be part of the movement towards a greener future! \n\n\n\nVendors can sign up to table here. 
URL:https://greenphl.com/event/ecofair/
LOCATION:Cherry Street Pier\, 121 North Christopher Columbus Boulevard\, Philadelphia\, PA\, 19106\, United States
CATEGORIES:Green Philly Event
ATTACH;FMTTYPE=image/png:https://greenphl.com/wp-content/uploads/2026/04/2026-Events-Graphics-LinkedIn-Post.png
ORGANIZER;CN="Green Philly":MAILTO:contact@greenphilly.com
GEO:39.9525531;-75.1397163
X-APPLE-STRUCTURED-LOCATION;VALUE=URI;X-ADDRESS=Cherry Street Pier 121 North Christopher Columbus Boulevard Philadelphia PA 19106 United States;X-APPLE-RADIUS=500;X-TITLE=121 North Christopher Columbus Boulevard:geo:-75.1397163,39.9525531
END:VEVENT
BEGIN:VEVENT
DTSTART;TZID=America/New_York:20260516T120000
DTEND;TZID=America/New_York:20260516T170000
DTSTAMP:20260422T071725
CREATED:20251201T160313Z
LAST-MODIFIED:20251201T160319Z
UID:10036267-1778932800-1778950800@greenphl.com
SUMMARY:Winetober Fest Spring Edition
DESCRIPTION:Enjoy the vibrant spirit of spring as we bring the full excitement of the season to life. This event showcases some of Pennsylvania’s finest wineries and distilleries\, complemented by a variety of food trucks and abundant shopping opportunities.\n\n? Date: Saturday\, May 16\, 2026\n? Time: 12:00 PM – 5:00 PM\n? Location: Skippack Village\, 4039 Skippack Pike\, Skippack\, PA 19474\n\n 
URL:https://greenphl.com/event/winetober-fest-spring-edition/
LOCATION:PA\, United States
CATEGORIES:Festival,Food
ATTACH;FMTTYPE=image/jpeg:https://greenphl.com/wp-content/uploads/2025/11/Spring-26-Ad.jpg
ORGANIZER;CN="Winetober Fest":MAILTO:Winetober@gmail.com
GEO:39.9531865;-75.1749671
END:VEVENT
BEGIN:VEVENT
DTSTART;TZID=America/New_York:20260516T120000
DTEND;TZID=America/New_York:20260516T170000
DTSTAMP:20260422T071725
CREATED:20260312T165212Z
LAST-MODIFIED:20260312T165222Z
UID:10036348-1778932800-1778950800@greenphl.com
SUMMARY:reFlea Spring 26
DESCRIPTION:The Resource Exchange’s reFlea is Philadelphia’s vendor market uniquely focused on local remakers\, vintage & secondhand refurbishers\, upcyclers and DIY creatives. If you are interested in sustainability\, creative reuse\, and contributing to Philly’s circular economy\, then come join us for a day of deals!
URL:https://greenphl.com/event/reflea-spring-26/
LOCATION:The Resource Exchange\, 1701 N. 2nd St.\, Philadelphia\, PA\, 19122\, United States
CATEGORIES:Neighborhood,Philly
ATTACH;FMTTYPE=image/png:https://greenphl.com/wp-content/uploads/2026/03/reFlea-EVENT-PRINT-FLYER.png
GEO:39.976411;-75.137768
X-APPLE-STRUCTURED-LOCATION;VALUE=URI;X-ADDRESS=The Resource Exchange 1701 N. 2nd St. Philadelphia PA 19122 United States;X-APPLE-RADIUS=500;X-TITLE=1701 N. 2nd St.:geo:-75.137768,39.976411
END:VEVENT
BEGIN:VEVENT
DTSTART;TZID=America/New_York:20260527T150000
DTEND;TZID=America/New_York:20260527T170000
DTSTAMP:20260422T071725
CREATED:20260420T180656Z
LAST-MODIFIED:20260420T180659Z
UID:10036385-1779894000-1779901200@greenphl.com
SUMMARY:Blend Your Own Adventure: A Tea Experience
DESCRIPTION:Step into the world of tea blending with Blend Your Own Adventure : a playful\, sensory journey where creativity meets calm. \nHere’s what to expect: \nA self-guided\, interactive experience\, think “choose your own adventure\,” but for tea lovers. \nBecky will share stories\, insights\, and inspiration to help you explore the world of tea and herbs as you craft your perfect blend. \nWhat You’ll Do: \n\nSample teas inspired by all that is random and wonderful.\nExplore plants from around Philly\, without leaving the room.\nEngage with our tea library and herbal apothecary for a hands-on dive into scent\, flavor\, and texture.\n\nCreate Your Blend: \nDesign your own signature tea using our wide selection of herbs and loose-leaf teas\, then package it in our custom compostable bags with unbleached filters\, ready to brew and share. \nSustainable & Satisfying: \nEvery step of the process is designed with the earth in mind\, from natural ingredients to eco-friendly packaging. \nAn inspiring\, tactile experience that invites you to slow down\, explore\, and connect with the ritual of tea. \nTickets Include: \n\nTea tastings & samples\nLoose-leaf teas & herbs\nFilters & packaging materials\nAll the tools you need to craft your perfect blend\n\nSip\, blend\, and create your own adventure in tea.
URL:https://greenphl.com/event/blend-your-own-adventure-a-tea-experience-2/2026-05-27/
LOCATION:The Random Tea Room\, 713 N 4th St\, Philadlphia\, PA\, 19123\, United States
CATEGORIES:Workshop
ATTACH;FMTTYPE=image/png:https://greenphl.com/wp-content/uploads/2026/04/Screenshot-2026-04-17-at-2.44.49-PM.png
ORGANIZER;CN="The Random Tea Room":MAILTO:curiousitea@gmail.com
GEO:39.9631306;-75.1444011
X-APPLE-STRUCTURED-LOCATION;VALUE=URI;X-ADDRESS=The Random Tea Room 713 N 4th St Philadlphia PA 19123 United States;X-APPLE-RADIUS=500;X-TITLE=713 N 4th St:geo:-75.1444011,39.9631306
END:VEVENT
BEGIN:VEVENT
DTSTART;TZID=America/New_York:20260622T080000
DTEND;TZID=America/New_York:20260815T170000
DTSTAMP:20260422T071725
CREATED:20260325T222639Z
LAST-MODIFIED:20260325T222644Z
UID:10036359-1782115200-1786813200@greenphl.com
SUMMARY:ProFESS Youth Summer Program 2026
DESCRIPTION:The LandHealth Institute’s annual ProFESS Summer Program is now open for 2026 applications! ProFESS (Program for Future Environmental Scientists and Stewards) is designed for students in grades 8-12\, interested in environmental science\, community stewardship\, and spending time outdoors. Students who enjoy hands-on education\, are looking to gain new skills and experiences\, and want to have fun this summer\, would be a perfect fit for ProFESS. Join us for kayaking\, fishing\, guided walks\, creative projects\, meetings with community stakeholders\, and more. More information about The LandHealth Institute can be found on our instagram @landhealthinstitute or our website landhealthinstitute.org. Link to apply is below. https://docs.google.com/forms/d/19DJL6VuB_j1-Awu5cWXGGBEl2AEmtFBXDHl6X0DtMas/edit
URL:https://greenphl.com/event/profess-youth-summer-program-2026/
LOCATION:PA
CATEGORIES:Family,Fitness,Neighborhood,Philly
ATTACH;FMTTYPE=image/png:https://greenphl.com/wp-content/uploads/2026/03/ProFESS_Flyer.png
END:VEVENT
END:VCALENDAR