BEGIN:VCALENDAR
VERSION:2.0
PRODID:-//Green Philly - ECPv6.15.20//NONSGML v1.0//EN
CALSCALE:GREGORIAN
METHOD:PUBLISH
X-WR-CALNAME:Green Philly
X-ORIGINAL-URL:https://greenphl.com
X-WR-CALDESC:Events for Green Philly
REFRESH-INTERVAL;VALUE=DURATION:PT1H
X-Robots-Tag:noindex
X-PUBLISHED-TTL:PT1H
BEGIN:VTIMEZONE
TZID:America/New_York
BEGIN:DAYLIGHT
TZOFFSETFROM:-0500
TZOFFSETTO:-0400
TZNAME:EDT
DTSTART:20250309T070000
END:DAYLIGHT
BEGIN:STANDARD
TZOFFSETFROM:-0400
TZOFFSETTO:-0500
TZNAME:EST
DTSTART:20251102T060000
END:STANDARD
BEGIN:DAYLIGHT
TZOFFSETFROM:-0500
TZOFFSETTO:-0400
TZNAME:EDT
DTSTART:20260308T070000
END:DAYLIGHT
BEGIN:STANDARD
TZOFFSETFROM:-0400
TZOFFSETTO:-0500
TZNAME:EST
DTSTART:20261101T060000
END:STANDARD
BEGIN:DAYLIGHT
TZOFFSETFROM:-0500
TZOFFSETTO:-0400
TZNAME:EDT
DTSTART:20270314T070000
END:DAYLIGHT
BEGIN:STANDARD
TZOFFSETFROM:-0400
TZOFFSETTO:-0500
TZNAME:EST
DTSTART:20271107T060000
END:STANDARD
END:VTIMEZONE
BEGIN:VEVENT
DTSTART;TZID=America/New_York:20260422T190000
DTEND;TZID=America/New_York:20260422T200000
DTSTAMP:20260421T060358
CREATED:20251117T155439Z
LAST-MODIFIED:20251117T155443Z
UID:10036263-1776884400-1776888000@greenphl.com
SUMMARY:Pennsylvania Piedmont: The Wildlands of Southeastern PA
DESCRIPTION:Celebrate Earth Day and National Parks Week with ecologist Roger Latham! Presented in partnership with Jenkins Arboretum & Gardens and Valley Forge Park Alliance.\n\nStep into the Pennsylvania Piedmont with ecologist and conservation biologist Roger Latham to uncover the unique geology and ecology that make Southeastern PA’s wildlands truly special. Explore freshwater tidal marshes\, mafic glades\, forests on diabase soils\, and serpentine barrens–all home to many state-endangered species. Learn about the natural history and ongoing stewardship of these ecosystems\, found nowhere else in the state.\n\nRoger Latham has worked as a research ecologist\, conservation biologist and environmental planner since 1973. He earned his Ph.D. in biology at the University of Pennsylvania and conducts applied research and planning for the National Park Service\, The Nature Conservancy\, Natural Lands Trust\, Western Pennsylvania Conservancy\, Audubon\, Pennsylvania Department of Conservation and Natural Resources\, and other organizations and agencies involved in wildland restoration and management and endangered species recovery.
URL:https://greenphl.com/event/pennsylvania-piedmont-the-wildlands-of-southeastern-pa/
LOCATION:The Conference Center at Penn State Great Valley\, 30 East Swedesford Rd\, Malvern\, PA\, 19355\, United States
CATEGORIES:Workshop
ATTACH;FMTTYPE=image/jpeg:https://greenphl.com/wp-content/uploads/2025/11/Roger-Latham.jpg
END:VEVENT
BEGIN:VEVENT
DTSTART;TZID=America/New_York:20260422T200000
DTEND;TZID=America/New_York:20260422T220000
DTSTAMP:20260421T060358
CREATED:20260403T184220Z
LAST-MODIFIED:20260403T184227Z
UID:10036366-1776888000-1776895200@greenphl.com
SUMMARY:Earth Day Outdoor Film Showing
DESCRIPTION:Join us at the Crossroad’s Women’s Center for an outdoor showing of films for Earth Day. This event is one in a series of events leading up to the Project Rummage Runway Fashion Show where the theme is Reduce\, Reuse\, Repurpose\, and Repair.\n\n \n\n 
URL:https://greenphl.com/event/earth-day-outdoor-film-showing/
LOCATION:PA
CATEGORIES:Family,Festival,Food,Movie,Music,Neighborhood,Philly,Workshop
ATTACH;FMTTYPE=image/png:https://greenphl.com/wp-content/uploads/2026/04/Crossroads-Project-Rummage-Runway-Film-Showing.png
ORGANIZER;CN="Crossroads Women's Center":MAILTO:crossroadsrummage@gmail.com
END:VEVENT
BEGIN:VEVENT
DTSTART;TZID=America/New_York:20260423T180000
DTEND;TZID=America/New_York:20260423T200000
DTSTAMP:20260421T060358
CREATED:20260330T145314Z
LAST-MODIFIED:20260330T145318Z
UID:10036361-1776967200-1776974400@greenphl.com
SUMMARY:Evil Genius x Clean Water Action Earth Day Happy Hour
DESCRIPTION:You can’t have good beer without clean water. Join Clean Water Action and Evil Genius Beer Company for a post–Earth Day happy hour at the Evil Genius taproom in Fishtown. Members of our Philadelphia team will be there to chat about our state and local campaign efforts. Join us for this post Earth Day celebration and help evil do good for our environment and health.\n\n$1 from every beer sold supports our work to end illegal dumping\, reduce flooding through community green spaces\, and protect families and firefighters from toxic PFAS.
URL:https://greenphl.com/event/evil-genius-x-clean-water-action-earth-day-happy-hour/
LOCATION:PA
CATEGORIES:Happy Hour,Philly
ATTACH;FMTTYPE=image/jpeg:https://greenphl.com/wp-content/uploads/2026/03/CW_PA_Event_EG_X-DESKTOP-GEFNTEC.jpg
END:VEVENT
BEGIN:VEVENT
DTSTART;TZID=America/New_York:20260425T100000
DTEND;TZID=America/New_York:20260425T120000
DTSTAMP:20260421T060358
CREATED:20250925T145541Z
LAST-MODIFIED:20250925T145548Z
UID:10036188-1777111200-1777118400@greenphl.com
SUMMARY:Museum Volunteer Learning Days
DESCRIPTION:This volunteer program was made for those with an interest in museum/archive work. Join us on Saturdays from 10AM-12PM during the months of October and November to learn new museum and archival skills. \nOctober 4\, 2025 – Introduction to HSG \n\n\nGet to know the objects and exhibits \n\n\nLearn how to interact with visitors \n\n\nOctober 11\, 2025 – From Acid-Free to Z-Fold: Storage Story/Introduction to Cataloging \n\n\nLearn how to store special collections\, safe object handling\, etc. \n\n\nSpecial guest lecture \n\n\nOctober 18\, 2025 – Continuation of last week \nOctober 25\, 2025 – Conquer Cursive \n\n\nHow to read historic cursive! \n\n\nNovember 1\, 2025 – Caring for Collections \n\n\nHelp clean historic objects using an object vacuum\, dusting\, etc. \n\n\nNovember 8\, 2025 -Red Rot Rescue! \n\n\nLearn how to treat red-rot. \n\n\nNovember 15\, 2025 – Book Making – Understanding the Library \n\n\nHands-on work in our library. \n\n\nNovember 22\, 2025 – Celebration! \nQuestions? Please email taylor@historicstgeorges.org.
URL:https://greenphl.com/event/museum-volunteer-learning-days/2026-04-25/
LOCATION:Historic St. George’s Museum & Archives\, 326 New St\, Philadelphia\, PA\, 19106\, United States
CATEGORIES:Family,Festival,Food,Neighborhood,Philly,Workshop
ATTACH;FMTTYPE=image/png:https://greenphl.com/wp-content/uploads/2025/09/VLD.png
ORGANIZER;CN="Historic St. George's Museum &amp%3B Archives":MAILTO:taylor@historicstgeorges.org
END:VEVENT
BEGIN:VEVENT
DTSTART;TZID=America/New_York:20260425T100000
DTEND;TZID=America/New_York:20260425T140000
DTSTAMP:20260421T060358
CREATED:20260420T175538Z
LAST-MODIFIED:20260420T175544Z
UID:10036378-1777111200-1777125600@greenphl.com
SUMMARY:Cobbs Creek Celebrate Trails Day
DESCRIPTION:Cobbs Creek Celebrate Trails Day will celebrate its sixth year running on Saturday\, April 25th 2026 from 10am-2pm at the playground/park area at Thomas Ave & Cobbs Creek Parkway just north of Whitby Ave.\n\nBrought to you by Clean Air Council and the Cobbs Creek Watershed Coalition\, this free event will kick off at 9:30am with a WeWalk to explore the paved Cobbs Creek Trail. Beginning at 10:00am attendees can interact with over two dozen exhibitors offering family friendly games\, resources\, information\, education\, and activities for residents to connect with including sharing ideas for the upcoming Little Nature Playgrounds on Cobbs Creek Trail.  The event will conclude with a raffle and a chance to win prizes. Thanks to Healing Through The Land for providing snacks and refreshments for participants.\n\nThe day’s schedule is filled with free activities including horseback riding\, a birding walk\, fishing\, book giveaway\, and more. See the complete event schedule below\, help spread the word to friends\, family\, and neighbors to come out and enjoy Cobbs Creek Park together. Stay updated by following the Cobbs Creek Watershed Coalition Facebook and Instagram pages.
URL:https://greenphl.com/event/cobbs-creek-celebrate-trails-day/
LOCATION:Thomas ave and C obbs Creek Parkway\, at the playground/park area at Thomas Ave & Cobbs Creek Parkway just north of Whitby Ave. \, Philadelphia
CATEGORIES:Family,Food,Music,Neighborhood,Philly
ATTACH;FMTTYPE=image/jpeg:https://greenphl.com/wp-content/uploads/2026/04/1.jpg
END:VEVENT
BEGIN:VEVENT
DTSTART;TZID=America/New_York:20260425T110000
DTEND;TZID=America/New_York:20260425T123000
DTSTAMP:20260421T060358
CREATED:20260113T213445Z
LAST-MODIFIED:20260401T195802Z
UID:10036308-1777114800-1777120200@greenphl.com
SUMMARY:City Nature Challenge at The Woodlands
DESCRIPTION:Join us for an exciting City Nature Challenge on Saturday\, April 25 from 11:00 am to 12:30 pm at The Woodlands! (Raindate: 4/26) \n\n\n\nIn partnership with Green Philly\, The Woodlands\, Feminist Bird Club Philly\, Andrew the Arborist\, Disability Pride PA\, the Philadelphia Mycology Club and City Nature Challenge participants will use the app iNaturalist to explore the biodiversity of The Woodlands (an incredible green space located in West Philadelphia) all while participating in community science! Community science data collected through iNaturalist observations is key to help monitor urban biodiversity health. \n\n\n\nWhat is the City Nature Challenge? \n\n\n\nThis annual four-day global bioblitz is held annually at the end of April\, where cities collaborate to see what can be accomplished when we all work toward a common goal. During a set period of time at a set location\, participants focus on finding and identifying as many species as they can.  \n\n\n\nHow do I participate? \n\n\n\nPlease download* the app iNaturalist (it’s free!) to your smart phone\, create an account\, and learn the basics of how to upload an observation. iNaturalist is an app that allows everyone no matter their skill level to find and identify species they come across\, from an unknown plant to a cool bird! \n\n\n\niOS Download  \n\n\n\nAndroid Download  \n\n\n\n*Please note if you do not have a smart phone\, we can group up and take turns! \n\n\n\nWhy should I join? \n\n\n\nFirst\, it’s FUN! Second\, this hands-on event offers a unique opportunity to connect with nature (and others who are interested in urband wildlife) while contributing valuable data to ongoing conservation efforts! And finally\, we are contributing to the 2026 City Nature Challenge where cities around the world collaborate to share observations of nature! \n\n\n\nWhether you’re a seasoned naturalist or a curious beginner\, all are welcome to participate in this accessible\, engaging\, educational experience. Spaces are limited so RSVP to learn more about the urban wildlife in your neighborhood! \n\n\n\nPlease note: The BioBlitz will coincide with the West Philly Craft Fest\, so parking won’t be available on-site. Visitors must park in the surrounding neighborhood\, but The Woodlands is easily accessible by public transit\, with the 40th Street Trolley Portal right across from the gates.
URL:https://greenphl.com/event/city-nature-challenge-bioblitz-at-the-woodlands/
LOCATION:The Woodlands\, 4000 Woodland Avenue\, Philadelphia\, PA\, 19104\, United States
CATEGORIES:Green Philly Event
ATTACH;FMTTYPE=image/png:https://greenphl.com/wp-content/uploads/2026/01/City-Nature-Challenge-Horizontal.png
ORGANIZER;CN="Green Philly":MAILTO:contact@greenphilly.com
GEO:39.9456775;-75.2036745
X-APPLE-STRUCTURED-LOCATION;VALUE=URI;X-ADDRESS=The Woodlands 4000 Woodland Avenue Philadelphia PA 19104 United States;X-APPLE-RADIUS=500;X-TITLE=4000 Woodland Avenue:geo:-75.2036745,39.9456775
END:VEVENT
BEGIN:VEVENT
DTSTART;TZID=America/New_York:20260425T110000
DTEND;TZID=America/New_York:20260425T150000
DTSTAMP:20260421T060359
CREATED:20260330T150439Z
LAST-MODIFIED:20260330T150443Z
UID:10036362-1777114800-1777129200@greenphl.com
SUMMARY:Astronomy Day 2026 at The Franklin Institute
DESCRIPTION:Celebrate International Astronomy Day at The Franklin Institute. Spend the day unlocking the mysteries of the universe across four floors of out-of-this-world experiences\, including the two-story Wondrous Space exhibit\, Fels Planetarium\, and the Holt & Miller Observatory.\n\nFeatured Programming:\n\n 	Solar Viewing in Science Park: Safely view the sun with telescopes and custom solar-viewing tents.\n 	Space Suit Show: Do you have what it takes to visit space\, or at least dress the part? Learn the ins and outs of a space suit to prepare you for your future travels.\n 	Explosive Trash Can Rocket Launch Finale: See science performers launch a 40-gallon trash can into the sky using our favorite ingredient\, liquid nitrogen.\n 	Special Guest: Chief Astronomer Derrick Pitts
URL:https://greenphl.com/event/astronomy-day-2026-at-the-franklin-institute/
LOCATION:The Franklin Institute\, 271 N 21st St\, Philadelphia\, PA\, 19103\, United States
CATEGORIES:Family
ATTACH;FMTTYPE=image/jpeg:https://greenphl.com/wp-content/uploads/2026/03/030526_AstroDay_WebHeader_1920x1080-1.jpg
GEO:39.9587516;-75.1737442
X-APPLE-STRUCTURED-LOCATION;VALUE=URI;X-ADDRESS=The Franklin Institute 271 N 21st St Philadelphia PA 19103 United States;X-APPLE-RADIUS=500;X-TITLE=271 N 21st St:geo:-75.1737442,39.9587516
END:VEVENT
BEGIN:VEVENT
DTSTART;TZID=America/New_York:20260425T130000
DTEND;TZID=America/New_York:20260425T143000
DTSTAMP:20260421T060359
CREATED:20260410T125318Z
LAST-MODIFIED:20260410T125322Z
UID:10036371-1777122000-1777127400@greenphl.com
SUMMARY:Camerata Philadelphia - Season Finale
DESCRIPTION:CAMERATA PHILADELPHIA – concludes its 2025/2026 Center City Season at Church of the Holy Trinity Rittenhouse Square (1904 Walnut Street\, Philadelphia\, PA 19103) on Saturday\, April 25 @ 1:00 PM. \nLed by Music Director & cellist Dr. Stephen Framil\, the program includes Beethoven’s Serenade in D for String Trio Op. 8\, Francis Poulenc‘s Sonata for Cello & Piano FP 143\, Brahms’ Trio in E-flat for Violin\, Viola (Horn) & Piano Op. 40; and features Opera Philadelphia violinist Gared Crawford\, No Name Pops violist & media content writer Sarah Sutton\, and The College of New Jersey piano professor Dr. Tomoko Kanamaru. \nFree admission open seating. Suggested donations: $25 General\, $10 Seniors\, $5 Students. For more information: visit www.camerataphiladelphia.org\, e-mail info@camerataphiladelphia.org\, or call 610-716-5737. \n###
URL:https://greenphl.com/event/camerata-philadelphia-season-finale/
LOCATION:The Church of the Holy Trinity\, Rittenhouse Square\, 1904 Walnut St\, Philadelphia\, PA\, 19103\, United States
CATEGORIES:Family,Music
ATTACH;FMTTYPE=image/jpeg:https://greenphl.com/wp-content/uploads/2026/04/Camerata-Philadelphia-Image_01.jpg
ORGANIZER;CN="Camerata Philadelphia":MAILTO:admin@camerataphiladelphia.org
GEO:39.9502352;-75.1732757
X-APPLE-STRUCTURED-LOCATION;VALUE=URI;X-ADDRESS=The Church of the Holy Trinity Rittenhouse Square 1904 Walnut St Philadelphia PA 19103 United States;X-APPLE-RADIUS=500;X-TITLE=1904 Walnut St:geo:-75.1732757,39.9502352
END:VEVENT
BEGIN:VEVENT
DTSTART;TZID=America/New_York:20260426T020000
DTEND;TZID=America/New_York:20260426T103000
DTSTAMP:20260421T060359
CREATED:20260420T175638Z
LAST-MODIFIED:20260420T175642Z
UID:10036380-1777168800-1777199400@greenphl.com
SUMMARY:Earth Day Organizational Fair
DESCRIPTION:Come join us at the Philadelphia Ethical Society’s Earth Day Organizational Fair this April 26th from 10:30-2:00 pm at the Society’s beautiful building on Rittenhouse Square\, co-hosted with Net Impact Philly. There will be around 15 organizations from Philadelphia present (see list below). The focus of this event is on connecting to each other and our organizations. We are also celebrating the 100th anniversary of Camp Linden\, which serves hundreds of youth from Philadelphia every year with free environmental and swimming education.  \n\n \nBring a water bottle to avoid generating trash! \n\n \nNet Impact Philly \nCircular Philadelphia \nPennsylvania Fibershed \nCenter for Social Impact Strategy at the University of Pennsylvania \nCamp Linden (project of the Philadelphia Ethical Society \nHistoric Fairhill \nPhilly City Repair \nPhilly Bike Action  \nGlitter \nVegan Runners \nCenter City Residents Assoc. Green Team \nEcho Systems  \nand more!  \n\n \nBasic Program \n\n \n9:00 to 10:15 Tabling orgs setup  \n10:15-10:45 Guests arriving  \n11:00 AM  Introduce Philadelphia Ethical Society and Camp Linden \n                 Go around intros of each org \n11:30 to 2:00 PM Tabling\, Networking\, Relationship building \n\n \n \nGoals for the event: \n\n \n\n 	\nto provide local residents with connections to environmental and  groups that they might join or support \n\n 	\ncreate awareness around our space on Rittenhouse as a friend of environmental programming  \n\n 	\ndrum up energy and support for Camp Linden’s 100 year anniversary
URL:https://greenphl.com/event/earth-day-organizational-fair/
LOCATION:Philadelphia Ethical Society Building\, 1901 S. Rittenhouse Square\, Philadelphia\, PA\, 19103\, United States
CATEGORIES:Festival
ATTACH;FMTTYPE=image/png:https://greenphl.com/wp-content/uploads/2026/04/IMG_5766.png
GEO:39.9488142;-75.1730931
X-APPLE-STRUCTURED-LOCATION;VALUE=URI;X-ADDRESS=Philadelphia Ethical Society Building 1901 S. Rittenhouse Square Philadelphia PA 19103 United States;X-APPLE-RADIUS=500;X-TITLE=1901 S. Rittenhouse Square:geo:-75.1730931,39.9488142
END:VEVENT
BEGIN:VEVENT
DTSTART;TZID=America/New_York:20260426T090000
DTEND;TZID=America/New_York:20260426T140000
DTSTAMP:20260421T060359
CREATED:20260316T202515Z
LAST-MODIFIED:20260316T202520Z
UID:10036351-1777194000-1777212000@greenphl.com
SUMMARY:2026 Temple University Bike Tour
DESCRIPTION:2026 Temple University Bike Tour\n\nSunday\, April 26\, 9 a.m. to 2 p.m.\n\nRegister now at https://ambler.temple.edu/biketour.\n\nGeneral Fee: $35 (Ends April 15)\n\nStudent Fee: $15 (Ends April 15)\n\nBike Rental Fee: $15 (for Temple Students)\n\nBike Rental Fee: $30 (for general public)\n\nStart: Temple University Main Campus (Diamond Lot)\, 1801 N Broad St\, Philadelphia\, PA 19122\nEnd:  Temple University Ambler (Ambler Arboretum of Temple University)\, 580 Meetinghouse Road\, Ambler PA 19002\n\nIt’s time to fly with the Owls! Join us for the 2026 Temple University Bike Tour on Sunday\, April 26. Register now and learn more at https://ambler.temple.edu/biketour! Registration for the Temple University Bike Tour will close on Wednesday\, April 15. There will be no on-site registration.\n\nFunds raised during the Bike Tour will support Temple University Ambler.\n\nCyclists will travel a beautiful 22-mile route from Main Campus to Temple Ambler on April 26\, touring the Greenway through Fairmount Park\, Wissahickon Valley Park’s Forbidden Drive and Fort Washington State Park.\n\nAt the finish line\, Bike Tour participants\, family\, friends and the general public are invited to a celebration including activities for the whole family\, information from Bike Tour sponsors and tours showcasing the unique experiences available at Temple Ambler!\n\nNo Bike? No Problem!\n\nBike rentals are available to all Temple University Bike Tour participants who need one\, now through April 15\, 2026. Thanks to our partners at Fairmount Bicycles\, we’re able to offer rentals at a significantly reduced rate for this event. Bikes will be delivered to the Diamond Lot on Temple’s Main Campus for pickup at the starting line and may be returned at the finish line at Temple’s Ambler Campus.\n\nFox Chase Cancer Center\, Chestnut Hill Hospital\, Absolutely Apropos\, RDS Vending\, Bergey’s Ford\, Piscitello Bicycle Law Advocates\, Schiel Family Foundation\, The Larry DiFranco Team at Elfant Wissahickon Realtors\, the Temple University Alumni Association\, MJ Kirkpatrick and Dr. Vicki Lewis McGarvey also proudly sponsor the Temple University Bike Tour.\n\nIf you have any questions about the Bike Tour or the Ambler Campus Celebration\, please contact us at templebiketour@temple.edu.\n\nTemple Bike Tour Website: https://ambler.temple.edu/community/temple-university-bike-tour\n\nCalendar listing: https://now.temple.edu/events/2026-04-26/2026-temple-university-bike-tour\n\nStory Link: https://ambler.temple.edu/news/2026/03/greenway-getaway-join-temple-university-bike-tour-april-26
URL:https://greenphl.com/event/2026-temple-university-bike-tour/
LOCATION:Temple University Ambler\, 580 Meetinghouse Road\, Ambler\, PA\, 19002\, United States
CATEGORIES:Family,Festival,Fitness
ATTACH;FMTTYPE=image/jpeg:https://greenphl.com/wp-content/uploads/2026/03/1-2026-Temple-Bike-Tour.jpg
ORGANIZER;CN="Temple University Ambler":MAILTO:duffyj@temple.edu
GEO:40.1659174;-75.1922343
X-APPLE-STRUCTURED-LOCATION;VALUE=URI;X-ADDRESS=Temple University Ambler 580 Meetinghouse Road Ambler PA 19002 United States;X-APPLE-RADIUS=500;X-TITLE=580 Meetinghouse Road:geo:-75.1922343,40.1659174
END:VEVENT
BEGIN:VEVENT
DTSTART;TZID=America/New_York:20260429T000000
DTEND;TZID=America/New_York:20260502T235959
DTSTAMP:20260421T060359
CREATED:20260420T175613Z
LAST-MODIFIED:20260420T175620Z
UID:10036379-1777420800-1777766399@greenphl.com
SUMMARY:U.S. National Squash Championships
DESCRIPTION:Watch the nation’s top squash professionals compete for the title of U.S. National Champion for free! Be in the stands as future Olympians take to the glass court at the world-class Arlen Specter US Squash Center\, home of Team USA Squash and US Squash.
URL:https://greenphl.com/event/u-s-national-squash-championships/
LOCATION:Arlen Specter US Squash Center\, 25 N 33rd St\, Philadelphia\, PA 19104\, Arlen Specter US Squash Center\, 25 N 33rd St\, Philadelphia\, PA\, 19104\, United States
CATEGORIES:Family,Fitness,Philly
ATTACH;FMTTYPE=image/png:https://greenphl.com/wp-content/uploads/2026/04/U.S.-Nationals-Flyer-11.png
ORGANIZER;CN="U.S. Squash":MAILTO:catherine.brady@ussquash.org
END:VEVENT
END:VCALENDAR